BEGIN:VCALENDAR
VERSION:2.0
PRODID:-//eventon.com NONSGML v1.0//EN
CALSCALE:GREGORIAN
METHOD:PUBLISH
BEGIN:VEVENT
UID:69e9d813c9ee3
DTSTAMP:20260423T082803Z
DTSTART:20250619T123000Z
DTEND:20250619T133000Z
LOCATION:Saal | Gemeindehaus MBG Lemgo\,  Am Stiftsland 19\,  32657 Lemgo Am Stiftsland 19
SUMMARY:[DM15] Musik & Leitung – Geistliche Verantwortung in der musikalischen Gestaltung
DESCRIPTION:Musikalische Leitung in der Gemeinde erfordert mehr als musikal
 isches Können – sie ist ein geistlicher Dienst mit theologischer Verantw
 ortung. In diesem Workshop reflektieren wir die Rolle von Musik in der Geme
 indeleitung\,  den Einfluss auf Anbetung und Gemeinschaft sowie praktische 
 Aspekte der Leitung von Musikteams. Ziel ist es\,  Musik bewusst und[..]\nh
 ttps://www.predigerkonferenz.com/session/15-d-das-lied-das-meine-gemeinde-e
 rbaut/
URL:https://www.predigerkonferenz.com/session/15-d-das-lied-das-meine-gemeinde-erbaut/
END:VEVENT
END:VCALENDAR