BEGIN:VCALENDAR
VERSION:2.0
PRODID:-//eventon.com NONSGML v1.0//EN
CALSCALE:GREGORIAN
METHOD:PUBLISH
BEGIN:VEVENT
UID:69e5ed5ca843b
DTSTAMP:20260420T090948Z
DTSTART:20200522T123000Z
DTEND:20200522T133000Z
LOCATION:Gemeindehaus MBG Lemgo\,  Am Bauhof 14a\,  32657 Lemgo Am Bauhof 14a\,  32657 Lemgo
SUMMARY:[F12] Predigerentwickler: Wie ich junge Leiter im Predigtdienst voranbringe und betreue
DESCRIPTION:• Eine Entwicklungsperspektive gewinnen. „Es ist noch kein 
 Meister vom Himmel gefallen.“ Daher ist es wichtig zu verinnerlichen\,  d
 ie Entwicklung junger Leiter als Lernprozess zu betrachten und nicht nur al
 s Produkt oder Projekt. • Im gemeinsamen Austausch besser verstehen\,  wa
 s junge Leiter an Unterstützung brauchen\,  um ihren Predigtdienst voranzu
 bringen. •[..]\nhttps://www.predigerkonferenz.com/session/f12-predigerent
 wickler-wie-ich-junge-leiter-im-predigtdienst-voranbringe-und-betreue/
URL:https://www.predigerkonferenz.com/session/f12-predigerentwickler-wie-ich-junge-leiter-im-predigtdienst-voranbringe-und-betreue/
END:VEVENT
END:VCALENDAR